BEGIN:VCALENDAR
VERSION:2.0
PRODID:-//wp-events-plugin.com//7.2.3.1//EN
TZID:America/Toronto
X-WR-TIMEZONE:America/Toronto
BEGIN:VEVENT
UID:26@nanoxplore.ca
DTSTART;TZID=America/Toronto:20240919T083000
DTEND;TZID=America/Toronto:20240919T093000
DTSTAMP:20240904T112025Z
URL:https://nanoxplore.ca/events/fourth-quarter-2024-results-webcast/
SUMMARY:FOURTH QUARTER 2024 RESULTS WEBCAST
DESCRIPTION:
END:VEVENT
BEGIN:VTIMEZONE
TZID:America/Toronto
X-LIC-LOCATION:America/Toronto
BEGIN:DAYLIGHT
DTSTART:20240310T030000
TZOFFSETFROM:-0500
TZOFFSETTO:-0400
TZNAME:EDT
END:DAYLIGHT
END:VTIMEZONE
END:VCALENDAR