BEGIN:VCALENDAR
VERSION:2.0
PRODID:-//wp-events-plugin.com//7.2.3.1//EN
TZID:America/Toronto
X-WR-TIMEZONE:America/Toronto
BEGIN:VEVENT
UID:30@nanoxplore.ca
DTSTART;TZID=America/Toronto:20250514T100000
DTEND;TZID=America/Toronto:20250514T110000
DTSTAMP:20250430T143759Z
URL:https://nanoxplore.ca/events/webdiffusion-du-troisieme-trimestre-2025/
SUMMARY:THIRD QUARTER 2025 RESULTS WEBCAST
DESCRIPTION:
END:VEVENT
BEGIN:VTIMEZONE
TZID:America/Toronto
X-LIC-LOCATION:America/Toronto
BEGIN:DAYLIGHT
DTSTART:20250309T030000
TZOFFSETFROM:-0500
TZOFFSETTO:-0400
TZNAME:EDT
END:DAYLIGHT
END:VTIMEZONE
END:VCALENDAR